Workbook

Sheet P&L
A1: Acme Software — FY2026 Rolling Forecast (6+6)
A2: Jan–Jun = Actuals (SUMIFS from GL Actuals) • Jul–Dec = Forecast (driver growth, carried run-rate, or manual input) • $ in dollars
B4: ACTUALS | H4: FORECAST
A5: $ in dollars | B5: Jan-26 | C5: Feb-26 | D5: Mar-26 | E5: Apr-26 | F5: May-26 | G5: Jun-26 | H5: Jul-26 | I5: Aug-26 | J5: Sep-26 | K5: Oct-26 | L5: Nov-26 | M5: Dec-26 | N5: FY2026
A6: Revenue
A7: Subscription - Enterprise | B7: =SUMIFS('GL Actuals'!$F$5:$F$262,'GL Actuals'!$C$5:$C$262,$A7,'GL Actuals'!$B$5:$B$262,B$5) -> 402585 | C7: =SUMIFS('GL Actuals'!$F$5:$F$262,'GL Actuals'!$C$5:$C$262,$A7,'GL Actuals'!$B$5:$B$262,C$5) -> 426072 | D7: =SUMIFS('GL Actuals'!$F$5:$F$262,'GL Actuals'!$C$5:$C$262,$A7,'GL Actuals'!$B$5:$B$262,D$5) -> 440805 | E7: =SUMIFS('GL Actuals'!$F$5:$F$262,'GL Actuals'!$C$5:$C$262,$A7,'GL Actuals'!$B$5:$B$262,E$5) -> 465307 | F7: =SUMIFS('GL Actuals'!$F$5:$F$262,'GL Actuals'!$C$5:$C$262,$A7,'GL Actuals'!$B$5:$B$262,F$5) -> 459727 | G7: =SUMIFS('GL Actuals'!$F$5:$F$262,'GL Actuals'!$C$5:$C$262,$A7,'GL Actuals'!$B$5:$B$262,G$5) -> 478882 | H7: =G7*(1+Drivers!$B$5) -> 495642.87 | I7: =H7*(1+Drivers!$B$5) -> 512990.37 | J7: =I7*(1+Drivers!$B$5) -> 530945.03 | K7: =J7*(1+Drivers!$B$5) -> 549528.11 | L7: =K7*(1+Drivers!$B$5) -> 568761.59 | M7: =L7*(1+Drivers!$B$5) -> 588668.25 | N7: =SUM(B7:M7) -> 5919914.2
A8: Subscription - Mid-Market | B8: =SUMIFS('GL Actuals'!$F$5:$F$262,'GL Actuals'!$C$5:$C$262,$A8,'GL Actuals'!$B$5:$B$262,B$5) -> 241200 | C8: =SUMIFS('GL Actuals'!$F$5:$F$262,'GL Actuals'!$C$5:$C$262,$A8,'GL Actuals'!$B$5:$B$262,C$5) -> 241053 | D8: =SUMIFS('GL Actuals'!$F$5:$F$262,'GL Actuals'!$C$5:$C$262,$A8,'GL Actuals'!$B$5:$B$262,D$5) -> 252941 | E8: =SUMIFS('GL Actuals'!$F$5:$F$262,'GL Actuals'!$C$5:$C$262,$A8,'GL Actuals'!$B$5:$B$262,E$5) -> 260500 | F8: =SUMIFS('GL Actuals'!$F$5:$F$262,'GL Actuals'!$C$5:$C$262,$A8,'GL Actuals'!$B$5:$B$262,F$5) -> 267409 | G8: =SUMIFS('GL Actuals'!$F$5:$F$262,'GL Actuals'!$C$5:$C$262,$A8,'GL Actuals'!$B$5:$B$262,G$5) -> 266678 | H8: =G8*(1+Drivers!$B$6) -> 273344.95 | I8: =H8*(1+Drivers!$B$6) -> 280178.57 | J8: =I8*(1+Drivers!$B$6) -> 287183.04 | K8: =J8*(1+Drivers!$B$6) -> 294362.61 | L8: =K8*(1+Drivers!$B$6) -> 301721.68 | M8: =L8*(1+Drivers!$B$6) -> 309264.72 | N8: =SUM(B8:M8) -> 3275836.6
A9: Subscription - SMB | B9: =SUMIFS('GL Actuals'!$F$5:$F$262,'GL Actuals'!$C$5:$C$262,$A9,'GL Actuals'!$B$5:$B$262,B$5) -> 117526 | C9: =SUMIFS('GL Actuals'!$F$5:$F$262,'GL Actuals'!$C$5:$C$262,$A9,'GL Actuals'!$B$5:$B$262,C$5) -> 117943 | D9: =SUMIFS('GL Actuals'!$F$5:$F$262,'GL Actuals'!$C$5:$C$262,$A9,'GL Actuals'!$B$5:$B$262,D$5) -> 119174 | E9: =SUMIFS('GL Actuals'!$F$5:$F$262,'GL Actuals'!$C$5:$C$262,$A9,'GL Actuals'!$B$5:$B$262,E$5) -> 118873 | F9: =SUMIFS('GL Actuals'!$F$5:$F$262,'GL Actuals'!$C$5:$C$262,$A9,'GL Actuals'!$B$5:$B$262,F$5) -> 124923 | G9: =SUMIFS('GL Actuals'!$F$5:$F$262,'GL Actuals'!$C$5:$C$262,$A9,'GL Actuals'!$B$5:$B$262,G$5) -> 125983 | H9: =G9*(1+Drivers!$B$7) -> 127872.74 | I9: =H9*(1+Drivers!$B$7) -> 129790.84 | J9: =I9*(1+Drivers!$B$7) -> 131737.7 | K9: =J9*(1+Drivers!$B$7) -> 133713.76 | L9: =K9*(1+Drivers!$B$7) -> 135719.47 | M9: =L9*(1+Drivers!$B$7) -> 137755.26 | N9: =SUM(B9:M9) -> 1521011.8
A10: Usage & Overage | B10: =SUMIFS('GL Actuals'!$F$5:$F$262,'GL Actuals'!$C$5:$C$262,$A10,'GL Actuals'!$B$5:$B$262,B$5) -> 55426 | C10: =SUMIFS('GL Actuals'!$F$5:$F$262,'GL Actuals'!$C$5:$C$262,$A10,'GL Actuals'!$B$5:$B$262,C$5) -> 56933 | D10: =SUMIFS('GL Actuals'!$F$5:$F$262,'GL Actuals'!$C$5:$C$262,$A10,'GL Actuals'!$B$5:$B$262,D$5) -> 60396 | E10: =SUMIFS('GL Actuals'!$F$5:$F$262,'GL Actuals'!$C$5:$C$262,$A10,'GL Actuals'!$B$5:$B$262,E$5) -> 61143 | F10: =SUMIFS('GL Actuals'!$F$5:$F$262,'GL Actuals'!$C$5:$C$262,$A10,'GL Actuals'!$B$5:$B$262,F$5) -> 63216 | G10: =SUMIFS('GL Actuals'!$F$5:$F$262,'GL Actuals'!$C$5:$C$262,$A10,'GL Actuals'!$B$5:$B$262,G$5) -> 68734 | H10: =G10*(1+Drivers!$B$8) -> 71483.36 | I10: =H10*(1+Drivers!$B$8) -> 74342.694 | J10: =I10*(1+Drivers!$B$8) -> 77316.402 | K10: =J10*(1+Drivers!$B$8) -> 80409.058 | L10: =K10*(1+Drivers!$B$8) -> 83625.421 | M10: =L10*(1+Drivers!$B$8) -> 86970.437 | N10: =SUM(B10:M10) -> 839995.37
A11: Professional Services Rev | B11: =SUMIFS('GL Actuals'!$F$5:$F$262,'GL Actuals'!$C$5:$C$262,$A11,'GL Actuals'!$B$5:$B$262,B$5) -> 88136 | C11: =SUMIFS('GL Actuals'!$F$5:$F$262,'GL Actuals'!$C$5:$C$262,$A11,'GL Actuals'!$B$5:$B$262,C$5) -> 86071 | D11: =SUMIFS('GL Actuals'!$F$5:$F$262,'GL Actuals'!$C$5:$C$262,$A11,'GL Actuals'!$B$5:$B$262,D$5) -> 81814 | E11: =SUMIFS('GL Actuals'!$F$5:$F$262,'GL Actuals'!$C$5:$C$262,$A11,'GL Actuals'!$B$5:$B$262,E$5) -> 93402 | F11: =SUMIFS('GL Actuals'!$F$5:$F$262,'GL Actuals'!$C$5:$C$262,$A11,'GL Actuals'!$B$5:$B$262,F$5) -> 85818 | G11: =SUMIFS('GL Actuals'!$F$5:$F$262,'GL Actuals'!$C$5:$C$262,$A11,'GL Actuals'!$B$5:$B$262,G$5) -> 96075 | H11: 96000 | I11: 91000 | J11: 104000 | K11: 99000 | L11: 112000 | M11: 128000 | N11: =SUM(B11:M11) -> 1161316
A12: Training & Certification | B12: =SUMIFS('GL Actuals'!$F$5:$F$262,'GL Actuals'!$C$5:$C$262,$A12,'GL Actuals'!$B$5:$B$262,B$5) -> 19043 | C12: =SUMIFS('GL Actuals'!$F$5:$F$262,'GL Actuals'!$C$5:$C$262,$A12,'GL Actuals'!$B$5:$B$262,C$5) -> 21618 | D12: =SUMIFS('GL Actuals'!$F$5:$F$262,'GL Actuals'!$C$5:$C$262,$A12,'GL Actuals'!$B$5:$B$262,D$5) -> 19628 | E12: =SUMIFS('GL Actuals'!$F$5:$F$262,'GL Actuals'!$C$5:$C$262,$A12,'GL Actuals'!$B$5:$B$262,E$5) -> 21623 | F12: =SUMIFS('GL Actuals'!$F$5:$F$262,'GL Actuals'!$C$5:$C$262,$A12,'GL Actuals'!$B$5:$B$262,F$5) -> 22810 | G12: =SUMIFS('GL Actuals'!$F$5:$F$262,'GL Actuals'!$C$5:$C$262,$A12,'GL Actuals'!$B$5:$B$262,G$5) -> 19102 | H12: 18000 | I12: 16500 | J12: 26000 | K12: 24000 | L12: 22500 | M12: 30000 | N12: =SUM(B12:M12) -> 260824
A13: Total Revenue | B13: =B7+B8+B9+B10+B11+B12 -> 923916 | C13: =C7+C8+C9+C10+C11+C12 -> 949690 | D13: =D7+D8+D9+D10+D11+D12 -> 974758 | E13: =E7+E8+E9+E10+E11+E12 -> 1020848 | F13: =F7+F8+F9+F10+F11+F12 -> 1023903 | G13: =G7+G8+G9+G10+G11+G12 -> 1055454 | H13: =H7+H8+H9+H10+H11+H12 -> 1082343.9 | I13: =I7+I8+I9+I10+I11+I12 -> 1104802.5 | ... N13: =N7+N8+N9+N10+N11+N12 -> 12978898
A15: Cost of Revenue
A16: Cloud Hosting | B16: =SUMIFS('GL Actuals'!$F$5:$F$262,'GL Actuals'!$C$5:$C$262,$A16,'GL Actuals'!$B$5:$B$262,B$5) -> 69624 | C16: =SUMIFS('GL Actuals'!$F$5:$F$262,'GL Actuals'!$C$5:$C$262,$A16,'GL Actuals'!$B$5:$B$262,C$5) -> 72646 | D16: =SUMIFS('GL Actuals'!$F$5:$F$262,'GL Actuals'!$C$5:$C$262,$A16,'GL Actuals'!$B$5:$B$262,D$5) -> 73912 | E16: =SUMIFS('GL Actuals'!$F$5:$F$262,'GL Actuals'!$C$5:$C$262,$A16,'GL Actuals'!$B$5:$B$262,E$5) -> 75914 | F16: =SUMIFS('GL Actuals'!$F$5:$F$262,'GL Actuals'!$C$5:$C$262,$A16,'GL Actuals'!$B$5:$B$262,F$5) -> 77572 | G16: =SUMIFS('GL Actuals'!$F$5:$F$262,'GL Actuals'!$C$5:$C$262,$A16,'GL Actuals'!$B$5:$B$262,G$5) -> 78087 | H16: =G16*(1+Drivers!$B$9) -> 79648.74 | I16: =H16*(1+Drivers!$B$9) -> 81241.715 | J16: =I16*(1+Drivers!$B$9) -> 82866.549 | K16: =J16*(1+Drivers!$B$9) -> 84523.88 | L16: =K16*(1+Drivers!$B$9) -> 86214.358 | M16: =L16*(1+Drivers!$B$9) -> 87938.645 | N16: =SUM(B16:M16) -> 950188.89
A17: Third-Party Licenses | B17: =SUMIFS('GL Actuals'!$F$5:$F$262,'GL Actuals'!$C$5:$C$262,$A17,'GL Actuals'!$B$5:$B$262,B$5) -> 18500 | C17: =SUMIFS('GL Actuals'!$F$5:$F$262,'GL Actuals'!$C$5:$C$262,$A17,'GL Actuals'!$B$5:$B$262,C$5) -> 18500 | D17: =SUMIFS('GL Actuals'!$F$5:$F$262,'GL Actuals'!$C$5:$C$262,$A17,'GL Actuals'!$B$5:$B$262,D$5) -> 18500 | E17: =SUMIFS('GL Actuals'!$F$5:$F$262,'GL Actuals'!$C$5:$C$262,$A17,'GL Actuals'!$B$5:$B$262,E$5) -> 19200 | F17: =SUMIFS('GL Actuals'!$F$5:$F$262,'GL Actuals'!$C$5:$C$262,$A17,'GL Actuals'!$B$5:$B$262,F$5) -> 19200 | G17: =SUMIFS('GL Actuals'!$F$5:$F$262,'GL Actuals'!$C$5:$C$262,$A17,'GL Actuals'!$B$5:$B$262,G$5) -> 19200 | H17: =G17 -> 19200 | I17: =H17 -> 19200 | J17: =I17 -> 19200 | K17: =J17 -> 19200 | L17: =K17 -> 19200 | M17: =L17 -> 19200 | N17: =SUM(B17:M17) -> 228300
A18: Customer Support | B18: =SUMIFS('GL Actuals'!$F$5:$F$262,'GL Actuals'!$C$5:$C$262,$A18,'GL Actuals'!$B$5:$B$262,B$5) -> 65840 | C18: =SUMIFS('GL Actuals'!$F$5:$F$262,'GL Actuals'!$C$5:$C$262,$A18,'GL Actuals'!$B$5:$B$262,C$5) -> 66108 | D18: =SUMIFS('GL Actuals'!$F$5:$F$262,'GL Actuals'!$C$5:$C$262,$A18,'GL Actuals'!$B$5:$B$262,D$5) -> 66017 | E18: =SUMIFS('GL Actuals'!$F$5:$F$262,'GL Actuals'!$C$5:$C$262,$A18,'GL Actuals'!$B$5:$B$262,E$5) -> 67369 | F18: =SUMIFS('GL Actuals'!$F$5:$F$262,'GL Actuals'!$C$5:$C$262,$A18,'GL Actuals'!$B$5:$B$262,F$5) -> 67324 | G18: =SUMIFS('GL Actuals'!$F$5:$F$262,'GL Actuals'!$C$5:$C$262,$A18,'GL Actuals'!$B$5:$B$262,G$5) -> 68975 | H18: =G18*(1+Drivers!$B$10) -> 69664.75 | I18: =H18*(1+Drivers!$B$10) -> 70361.398 | J18: =I18*(1+Drivers!$B$10) -> 71065.011 | K18: =J18*(1+Drivers!$B$10) -> 71775.662 | L18: =K18*(1+Drivers!$B$10) -> 72493.418 | M18: =L18*(1+Drivers!$B$10) -> 73218.352 | N18: =SUM(B18:M18) -> 830211.59
A19: Services Delivery | B19: =SUMIFS('GL Actuals'!$F$5:$F$262,'GL Actuals'!$C$5:$C$262,$A19,'GL Actuals'!$B$5:$B$262,B$5) -> 53008 | C19: =SUMIFS('GL Actuals'!$F$5:$F$262,'GL Actuals'!$C$5:$C$262,$A19,'GL Actuals'!$B$5:$B$262,C$5) -> 56922 | D19: =SUMIFS('GL Actuals'!$F$5:$F$262,'GL Actuals'!$C$5:$C$262,$A19,'GL Actuals'!$B$5:$B$262,D$5) -> 49943 | E19: =SUMIFS('GL Actuals'!$F$5:$F$262,'GL Actuals'!$C$5:$C$262,$A19,'GL Actuals'!$B$5:$B$262,E$5) -> 51218 | F19: =SUMIFS('GL Actuals'!$F$5:$F$262,'GL Actuals'!$C$5:$C$262,$A19,'GL Actuals'!$B$5:$B$262,F$5) -> 48113 | G19: =SUMIFS('GL Actuals'!$F$5:$F$262,'GL Actuals'!$C$5:$C$262,$A19,'GL Actuals'!$B$5:$B$262,G$5) -> 51119 | H19: 58000 | I19: 55000 | J19: 62000 | K19: 60000 | L19: 66000 | M19: 74000 | N19: =SUM(B19:M19) -> 685323
A20: Payment Processing | B20: =SUMIFS('GL Actuals'!$F$5:$F$262,'GL Actuals'!$C$5:$C$262,$A20,'GL Actuals'!$B$5:$B$262,B$5) -> 16934 | C20: =SUMIFS('GL Actuals'!$F$5:$F$262,'GL Actuals'!$C$5:$C$262,$A20,'GL Actuals'!$B$5:$B$262,C$5) -> 17534 | D20: =SUMIFS('GL Actuals'!$F$5:$F$262,'GL Actuals'!$C$5:$C$262,$A20,'GL Actuals'!$B$5:$B$262,D$5) -> 17560 | E20: =SUMIFS('GL Actuals'!$F$5:$F$262,'GL Actuals'!$C$5:$C$262,$A20,'GL Actuals'!$B$5:$B$262,E$5) -> 18424 | F20: =SUMIFS('GL Actuals'!$F$5:$F$262,'GL Actuals'!$C$5:$C$262,$A20,'GL Actuals'!$B$5:$B$262,F$5) -> 18212 | G20: =SUMIFS('GL Actuals'!$F$5:$F$262,'GL Actuals'!$C$5:$C$262,$A20,'GL Actuals'!$B$5:$B$262,G$5) -> 19841 | H20: =G20*(1+Drivers!$B$11) -> 20436.23 | I20: =H20*(1+Drivers!$B$11) -> 21049.317 | J20: =I20*(1+Drivers!$B$11) -> 21680.796 | K20: =J20*(1+Drivers!$B$11) -> 22331.22 | L20: =K20*(1+Drivers!$B$11) -> 23001.157 | M20: =L20*(1+Drivers!$B$11) -> 23691.192 | N20: =SUM(B20:M20) -> 240694.91
A21: Total Cost of Revenue | B21: =B16+B17+B18+B19+B20 -> 223906 | C21: =C16+C17+C18+C19+C20 -> 231710 | D21: =D16+D17+D18+D19+D20 -> 225932 | E21: =E16+E17+E18+E19+E20 -> 232125 | F21: =F16+F17+F18+F19+F20 -> 230421 | G21: =G16+G17+G18+G19+G20 -> 237222 | H21: =H16+H17+H18+H19+H20 -> 246949.72 | I21: =I16+I17+I18+I19+I20 -> 246852.43 | ... N21: =N16+N17+N18+N19+N20 -> 2934718.4
A22: Gross Profit | B22: =B13-B21 -> 700010 | C22: =C13-C21 -> 717980 | D22: =D13-D21 -> 748826 | E22: =E13-E21 -> 788723 | F22: =F13-F21 -> 793482 | G22: =G13-G21 -> 818232 | H22: =H13-H21 -> 835394.2 | I22: =I13-I21 -> 857950.05 | ... N22: =N13-N21 -> 10044180
A23: Gross Margin % | B23: =IF(B13=0,0,B22/B13) -> 0.75765546 | C23: =IF(C13=0,0,C22/C13) -> 0.75601512 | D23: =IF(D13=0,0,D22/D13) -> 0.76821734 | E23: =IF(E13=0,0,E22/E13) -> 0.77261551 | F23: =IF(F13=0,0,F22/F13) -> 0.77495817 | G23: =IF(G13=0,0,G22/G13) -> 0.77524174 | H23: =IF(H13=0,0,H22/H13) -> 0.77183803 | I23: =IF(I13=0,0,I22/I13) -> 0.7765642 | ... N23: =IF(N13=0,0,N22/N13) -> 0.77388539
A25: Operating Expenses
A26: Sales Compensation | B26: =SUMIFS('GL Actuals'!$F$5:$F$262,'GL Actuals'!$C$5:$C$262,$A26,'GL Actuals'!$B$5:$B$262,B$5) -> 183519 | C26: =SUMIFS('GL Actuals'!$F$5:$F$262,'GL Actuals'!$C$5:$C$262,$A26,'GL Actuals'!$B$5:$B$262,C$5) -> 180654 | D26: =SUMIFS('GL Actuals'!$F$5:$F$262,'GL Actuals'!$C$5:$C$262,$A26,'GL Actuals'!$B$5:$B$262,D$5) -> 187171 | E26: =SUMIFS('GL Actuals'!$F$5:$F$262,'GL Actuals'!$C$5:$C$262,$A26,'GL Actuals'!$B$5:$B$262,E$5) -> 194667 | F26: =SUMIFS('GL Actuals'!$F$5:$F$262,'GL Actuals'!$C$5:$C$262,$A26,'GL Actuals'!$B$5:$B$262,F$5) -> 191216 | G26: =SUMIFS('GL Actuals'!$F$5:$F$262,'GL Actuals'!$C$5:$C$262,$A26,'GL Actuals'!$B$5:$B$262,G$5) -> 201840 | H26: =G26*(1+Drivers!$B$12) -> 205876.8 | I26: =H26*(1+Drivers!$B$12) -> 209994.34 | J26: =I26*(1+Drivers!$B$12) -> 214194.22 | K26: =J26*(1+Drivers!$B$12) -> 218478.11 | L26: =K26*(1+Drivers!$B$12) -> 222847.67 | M26: =L26*(1+Drivers!$B$12) -> 227304.62 | N26: =SUM(B26:M26) -> 2437762.8
A27: Marketing Programs | B27: =SUMIFS('GL Actuals'!$F$5:$F$262,'GL Actuals'!$C$5:$C$262,$A27,'GL Actuals'!$B$5:$B$262,B$5) -> 73183 | C27: =SUMIFS('GL Actuals'!$F$5:$F$262,'GL Actuals'!$C$5:$C$262,$A27,'GL Actuals'!$B$5:$B$262,C$5) -> 70600 | D27: =SUMIFS('GL Actuals'!$F$5:$F$262,'GL Actuals'!$C$5:$C$262,$A27,'GL Actuals'!$B$5:$B$262,D$5) -> 68832 | E27: =SUMIFS('GL Actuals'!$F$5:$F$262,'GL Actuals'!$C$5:$C$262,$A27,'GL Actuals'!$B$5:$B$262,E$5) -> 70174 | F27: =SUMIFS('GL Actuals'!$F$5:$F$262,'GL Actuals'!$C$5:$C$262,$A27,'GL Actuals'!$B$5:$B$262,F$5) -> 78549 | G27: =SUMIFS('GL Actuals'!$F$5:$F$262,'GL Actuals'!$C$5:$C$262,$A27,'GL Actuals'!$B$5:$B$262,G$5) -> 79107 | H27: 82000 | I27: 64000 | J27: 118000 | K27: 96000 | L27: 88000 | M27: 71000 | N27: =SUM(B27:M27) -> 959445
A28: R&D Salaries | B28: =SUMIFS('GL Actuals'!$F$5:$F$262,'GL Actuals'!$C$5:$C$262,$A28,'GL Actuals'!$B$5:$B$262,B$5) -> 274546 | C28: =SUMIFS('GL Actuals'!$F$5:$F$262,'GL Actuals'!$C$5:$C$262,$A28,'GL Actuals'!$B$5:$B$262,C$5) -> 274859 | D28: =SUMIFS('GL Actuals'!$F$5:$F$262,'GL Actuals'!$C$5:$C$262,$A28,'GL Actuals'!$B$5:$B$262,D$5) -> 280354 | E28: =SUMIFS('GL Actuals'!$F$5:$F$262,'GL Actuals'!$C$5:$C$262,$A28,'GL Actuals'!$B$5:$B$262,E$5) -> 276149 | F28: =SUMIFS('GL Actuals'!$F$5:$F$262,'GL Actuals'!$C$5:$C$262,$A28,'GL Actuals'!$B$5:$B$262,F$5) -> 275645 | G28: =SUMIFS('GL Actuals'!$F$5:$F$262,'GL Actuals'!$C$5:$C$262,$A28,'GL Actuals'!$B$5:$B$262,G$5) -> 289700 | H28: =G28*(1+Drivers!$B$13) -> 293176.4 | I28: =H28*(1+Drivers!$B$13) -> 296694.52 | J28: =I28*(1+Drivers!$B$13) -> 300254.85 | K28: =J28*(1+Drivers!$B$13) -> 303857.91 | L28: =K28*(1+Drivers!$B$13) -> 307504.2 | M28: =L28*(1+Drivers!$B$13) -> 311194.25 | N28: =SUM(B28:M28) -> 3483935.1
A29: R&D Contractors | B29: =SUMIFS('GL Actuals'!$F$5:$F$262,'GL Actuals'!$C$5:$C$262,$A29,'GL Actuals'!$B$5:$B$262,B$5) -> 40265 | C29: =SUMIFS('GL Actuals'!$F$5:$F$262,'GL Actuals'!$C$5:$C$262,$A29,'GL Actuals'!$B$5:$B$262,C$5) -> 41648 | D29: =SUMIFS('GL Actuals'!$F$5:$F$262,'GL Actuals'!$C$5:$C$262,$A29,'GL Actuals'!$B$5:$B$262,D$5) -> 41170 | E29: =SUMIFS('GL Actuals'!$F$5:$F$262,'GL Actuals'!$C$5:$C$262,$A29,'GL Actuals'!$B$5:$B$262,E$5) -> 37982 | F29: =SUMIFS('GL Actuals'!$F$5:$F$262,'GL Actuals'!$C$5:$C$262,$A29,'GL Actuals'!$B$5:$B$262,F$5) -> 43818 | G29: =SUMIFS('GL Actuals'!$F$5:$F$262,'GL Actuals'!$C$5:$C$262,$A29,'GL Actuals'!$B$5:$B$262,G$5) -> 43463 | H29: 45000 | I29: 45000 | J29: 38000 | K29: 38000 | L29: 30000 | M29: 30000 | N29: =SUM(B29:M29) -> 474346
A30: General & Administrative | B30: =SUMIFS('GL Actuals'!$F$5:$F$262,'GL Actuals'!$C$5:$C$262,$A30,'GL Actuals'!$B$5:$B$262,B$5) -> 117499 | C30: =SUMIFS('GL Actuals'!$F$5:$F$262,'GL Actuals'!$C$5:$C$262,$A30,'GL Actuals'!$B$5:$B$262,C$5) -> 119602 | D30: =SUMIFS('GL Actuals'!$F$5:$F$262,'GL Actuals'!$C$5:$C$262,$A30,'GL Actuals'!$B$5:$B$262,D$5) -> 122141 | E30: =SUMIFS('GL Actuals'!$F$5:$F$262,'GL Actuals'!$C$5:$C$262,$A30,'GL Actuals'!$B$5:$B$262,E$5) -> 121542 | F30: =SUMIFS('GL Actuals'!$F$5:$F$262,'GL Actuals'!$C$5:$C$262,$A30,'GL Actuals'!$B$5:$B$262,F$5) -> 124898 | G30: =SUMIFS('GL Actuals'!$F$5:$F$262,'GL Actuals'!$C$5:$C$262,$A30,'GL Actuals'!$B$5:$B$262,G$5) -> 121524 | H30: =G30*(1+Drivers!$B$14) -> 122131.62 | I30: =H30*(1+Drivers!$B$14) -> 122742.28 | J30: =I30*(1+Drivers!$B$14) -> 123355.99 | K30: =J30*(1+Drivers!$B$14) -> 123972.77 | L30: =K30*(1+Drivers!$B$14) -> 124592.63 | M30: =L30*(1+Drivers!$B$14) -> 125215.6 | N30: =SUM(B30:M30) -> 1469216.9
A31: Facilities & Rent | B31: =SUMIFS('GL Actuals'!$F$5:$F$262,'GL Actuals'!$C$5:$C$262,$A31,'GL Actuals'!$B$5:$B$262,B$5) -> 38000 | C31: =SUMIFS('GL Actuals'!$F$5:$F$262,'GL Actuals'!$C$5:$C$262,$A31,'GL Actuals'!$B$5:$B$262,C$5) -> 38000 | D31: =SUMIFS('GL Actuals'!$F$5:$F$262,'GL Actuals'!$C$5:$C$262,$A31,'GL Actuals'!$B$5:$B$262,D$5) -> 38000 | E31: =SUMIFS('GL Actuals'!$F$5:$F$262,'GL Actuals'!$C$5:$C$262,$A31,'GL Actuals'!$B$5:$B$262,E$5) -> 38000 | F31: =SUMIFS('GL Actuals'!$F$5:$F$262,'GL Actuals'!$C$5:$C$262,$A31,'GL Actuals'!$B$5:$B$262,F$5) -> 38000 | G31: =SUMIFS('GL Actuals'!$F$5:$F$262,'GL Actuals'!$C$5:$C$262,$A31,'GL Actuals'!$B$5:$B$262,G$5) -> 38000 | H31: =G31 -> 38000 | I31: =H31 -> 38000 | J31: =I31 -> 38000 | K31: =J31 -> 38000 | L31: =K31 -> 38000 | M31: =L31 -> 38000 | N31: =SUM(B31:M31) -> 456000
A32: Total Operating Expenses | B32: =B26+B27+B28+B29+B30+B31 -> 727012 | C32: =C26+C27+C28+C29+C30+C31 -> 725363 | D32: =D26+D27+D28+D29+D30+D31 -> 737668 | E32: =E26+E27+E28+E29+E30+E31 -> 738514 | F32: =F26+F27+F28+F29+F30+F31 -> 752126 | G32: =G26+G27+G28+G29+G30+G31 -> 773634 | H32: =H26+H27+H28+H29+H30+H31 -> 786184.82 | I32: =I26+I27+I28+I29+I30+I31 -> 776431.13 | ... N32: =N26+N27+N28+N29+N30+N31 -> 9280705.8
A33: EBITDA | B33: =B22-B32 -> -27002 | C33: =C22-C32 -> -7383 | D33: =D22-D32 -> 11158 | E33: =E22-E32 -> 50209 | F33: =F22-F32 -> 41356 | G33: =G22-G32 -> 44598 | H33: =H22-H32 -> 49209.385 | I33: =I22-I32 -> 81518.915 | ... N33: =N22-N32 -> 763473.78
A34: EBITDA Margin % | B34: =IF(B13=0,0,B33/B13) -> -0.029225601 | C34: =IF(C13=0,0,C33/C13) -> -0.0077741158 | D34: =IF(D13=0,0,D33/D13) -> 0.011446944 | E34: =IF(E13=0,0,E33/E13) -> 0.04918362 | F34: =IF(F13=0,0,F33/F13) -> 0.040390545 | G34: =IF(G13=0,0,G33/G13) -> 0.042254802 | H34: =IF(H13=0,0,H33/H13) -> 0.045465571 | I34: =IF(I13=0,0,I33/I13) -> 0.073785963 | ... N34: =IF(N13=0,0,N33/N13) -> 0.058824238
A36: Below the Line
A37: Depreciation & Amort. | B37: =SUMIFS('GL Actuals'!$F$5:$F$262,'GL Actuals'!$C$5:$C$262,$A37,'GL Actuals'!$B$5:$B$262,B$5) -> 21500 | C37: =SUMIFS('GL Actuals'!$F$5:$F$262,'GL Actuals'!$C$5:$C$262,$A37,'GL Actuals'!$B$5:$B$262,C$5) -> 21500 | D37: =SUMIFS('GL Actuals'!$F$5:$F$262,'GL Actuals'!$C$5:$C$262,$A37,'GL Actuals'!$B$5:$B$262,D$5) -> 21800 | E37: =SUMIFS('GL Actuals'!$F$5:$F$262,'GL Actuals'!$C$5:$C$262,$A37,'GL Actuals'!$B$5:$B$262,E$5) -> 21800 | F37: =SUMIFS('GL Actuals'!$F$5:$F$262,'GL Actuals'!$C$5:$C$262,$A37,'GL Actuals'!$B$5:$B$262,F$5) -> 22400 | G37: =SUMIFS('GL Actuals'!$F$5:$F$262,'GL Actuals'!$C$5:$C$262,$A37,'GL Actuals'!$B$5:$B$262,G$5) -> 22400 | H37: =G37 -> 22400 | I37: =H37 -> 22400 | J37: =I37 -> 22400 | K37: =J37 -> 22400 | L37: =K37 -> 22400 | M37: =L37 -> 22400 | N37: =SUM(B37:M37) -> 265800
A38: Interest Expense | B38: =SUMIFS('GL Actuals'!$F$5:$F$262,'GL Actuals'!$C$5:$C$262,$A38,'GL Actuals'!$B$5:$B$262,B$5) -> 6332 | C38: =SUMIFS('GL Actuals'!$F$5:$F$262,'GL Actuals'!$C$5:$C$262,$A38,'GL Actuals'!$B$5:$B$262,C$5) -> 6454 | D38: =SUMIFS('GL Actuals'!$F$5:$F$262,'GL Actuals'!$C$5:$C$262,$A38,'GL Actuals'!$B$5:$B$262,D$5) -> 5770 | E38: =SUMIFS('GL Actuals'!$F$5:$F$262,'GL Actuals'!$C$5:$C$262,$A38,'GL Actuals'!$B$5:$B$262,E$5) -> 5759 | F38: =SUMIFS('GL Actuals'!$F$5:$F$262,'GL Actuals'!$C$5:$C$262,$A38,'GL Actuals'!$B$5:$B$262,F$5) -> 6569 | G38: =SUMIFS('GL Actuals'!$F$5:$F$262,'GL Actuals'!$C$5:$C$262,$A38,'GL Actuals'!$B$5:$B$262,G$5) -> 6571 | H38: 6100 | I38: 6100 | J38: 5900 | K38: 5900 | L38: 5700 | M38: 5700 | N38: =SUM(B38:M38) -> 72855
A39: Income Tax Provision | B39: =SUMIFS('GL Actuals'!$F$5:$F$262,'GL Actuals'!$C$5:$C$262,$A39,'GL Actuals'!$B$5:$B$262,B$5) -> 9452 | C39: =SUMIFS('GL Actuals'!$F$5:$F$262,'GL Actuals'!$C$5:$C$262,$A39,'GL Actuals'!$B$5:$B$262,C$5) -> 9324 | D39: =SUMIFS('GL Actuals'!$F$5:$F$262,'GL Actuals'!$C$5:$C$262,$A39,'GL Actuals'!$B$5:$B$262,D$5) -> 8845 | E39: =SUMIFS('GL Actuals'!$F$5:$F$262,'GL Actuals'!$C$5:$C$262,$A39,'GL Actuals'!$B$5:$B$262,E$5) -> 9221 | F39: =SUMIFS('GL Actuals'!$F$5:$F$262,'GL Actuals'!$C$5:$C$262,$A39,'GL Actuals'!$B$5:$B$262,F$5) -> 9742 | G39: =SUMIFS('GL Actuals'!$F$5:$F$262,'GL Actuals'!$C$5:$C$262,$A39,'GL Actuals'!$B$5:$B$262,G$5) -> 9823 | H39: 12000 | I39: 12000 | J39: 14000 | K39: 14000 | L39: 15000 | M39: 18000 | N39: =SUM(B39:M39) -> 141407
A40: Total Below the Line | B40: =B37+B38+B39 -> 37284 | C40: =C37+C38+C39 -> 37278 | D40: =D37+D38+D39 -> 36415 | E40: =E37+E38+E39 -> 36780 | F40: =F37+F38+F39 -> 38711 | G40: =G37+G38+G39 -> 38794 | H40: =H37+H38+H39 -> 40500 | I40: =I37+I38+I39 -> 40500 | ... N40: =N37+N38+N39 -> 480062
A42: Net Income | B42: =B33-B40 -> -64286 | C42: =C33-C40 -> -44661 | D42: =D33-D40 -> -25257 | E42: =E33-E40 -> 13429 | F42: =F33-F40 -> 2645 | G42: =G33-G40 -> 5804 | H42: =H33-H40 -> 8709.385 | I42: =I33-I40 -> 41018.915 | ... N42: =N33-N40 -> 283411.78
A43: Net Margin % | B43: =IF(B13=0,0,B42/B13) -> -0.069579919 | C43: =IF(C13=0,0,C42/C13) -> -0.047026925 | D43: =IF(D13=0,0,D42/D13) -> -0.025911047 | E43: =IF(E13=0,0,E42/E13) -> 0.01315475 | F43: =IF(F13=0,0,F42/F13) -> 0.0025832525 | G43: =IF(G13=0,0,G42/G13) -> 0.0054990554 | H43: =IF(H13=0,0,H42/H13) -> 0.0080467814 | I43: =IF(I13=0,0,I42/I13) -> 0.037127827 | ... N43: =IF(N13=0,0,N42/N13) -> 0.021836352
A46: Legend
A47: Blue on yellow = manual forecast input (typed by FP&A)
...

Sheet Quarterly
A1: Quarterly Summary — FY2026
B3: Q1 (Act) | C3: Q2 (Act) | D3: Q3 (Fcst) | E3: Q4 (Fcst) | F3: FY2026
A4: Total Revenue | B4: =SUM('P&L'!B13:D13) -> 2848364 | C4: =SUM('P&L'!E13:G13) -> 3100205 | D4: =SUM('P&L'!H13:J13) -> 3344328.6 | E4: =SUM('P&L'!K13:M13) -> 3686000.4 | F4: =SUM(B4:E4) -> 12978898
A5: Gross Profit | B5: =SUM('P&L'!B22:D22) -> 2166816 | C5: =SUM('P&L'!E22:G22) -> 2400437 | D5: =SUM('P&L'!H22:J22) -> 2593714.1 | E5: =SUM('P&L'!K22:M22) -> 2883212.5 | F5: =SUM(B5:E5) -> 10044180
A6: EBITDA | B6: =SUM('P&L'!B33:D33) -> -23227 | C6: =SUM('P&L'!E33:G33) -> 136163 | D6: =SUM('P&L'!H33:J33) -> 199293.05 | E6: =SUM('P&L'!K33:M33) -> 451244.73 | F6: =SUM(B6:E6) -> 763473.78
A7: Net Income | B7: =SUM('P&L'!B42:D42) -> -134204 | C7: =SUM('P&L'!E42:G42) -> 21878 | D7: =SUM('P&L'!H42:J42) -> 75993.052 | E7: =SUM('P&L'!K42:M42) -> 319744.73 | F7: =SUM(B7:E7) -> 283411.78

Sheet GL Actuals
A1: General Ledger Detail — Posted Actuals (FY2026, Jan–Jun)
A2: Source: ERP GL export. The P&L 'Actuals' columns sum this tab via SUMIFS on Line Item + Month.
A4: Txn Date | B4: Month | C4: Line Item | D4: Department | E4: Memo / Vendor | F4: Amount
A5: 46025 | B5: Jan-26 | C5: Cloud Hosting | D5: COGS | E5: AWS us-east-1 | F5: 22935
A6: 46025 | B6: Jan-26 | C6: General & Administrative | D6: OpEx | E6: Finance & legal payroll | F6: 48524
A7: 46025 | B7: Jan-26 | C7: Interest Expense | D7: Corporate | E7: Term loan interest | F7: 6332
A8: 46025 | B8: Jan-26 | C8: Usage & Overage | D8: Revenue | E8: Compute overage | F8: 19385
A9: 46026 | B9: Jan-26 | C9: Payment Processing | D9: COGS | E9: Card processing fees | F9: 7028
A10: 46026 | B10: Jan-26 | C10: Services Delivery | D10: COGS | E10: Delivery payroll | F10: 22515
A11: 46027 | B11: Jan-26 | C11: Customer Support | D11: COGS | E11: Support payroll | F11: 26443
A12: 46027 | B12: Jan-26 | C12: Income Tax Provision | D12: Corporate | E12: Estimated tax provision | F12: 9452
A13: 46027 | B13: Jan-26 | C13: Marketing Programs | D13: OpEx | E13: Paid search | F13: 28301
A14: 46027 | B14: Jan-26 | C14: Professional Services Rev | D14: Revenue | E14: Implementation | F14: 51161
A15: 46027 | B15: Jan-26 | C15: R&D Salaries | D15: OpEx | E15: Engineering payroll | F15: 110552
A16: 46027 | B16: Jan-26 | C16: Sales Compensation | D16: OpEx | E16: AE base salaries | F16: 92111
... A262: 46193 | B262: Jun-26 | C262: Subscription - Enterprise | D262: Revenue | E262: Expansion - Enterprise | F262: 147659

Sheet Drivers
A1: Forecast Drivers (Jul–Dec 2026)
A2: Yellow cells are inputs. Growth lines forecast as prior month x (1 + monthly rate).
A4: Driver | B4: Monthly Rate | C4: Basis
A5: Subscription - Enterprise growth | B5: 0.035 | C5: Net new ARR + expansion pipeline
A6: Subscription - Mid-Market growth | B6: 0.025 | C6: Pipeline coverage 3.1x
A7: Subscription - SMB growth | B7: 0.015 | C7: Self-serve funnel trend
A8: Usage & Overage growth | B8: 0.04 | C8: Consumption trend, trailing 6 mo
A9: Cloud Hosting growth | B9: 0.02 | C9: Scales with usage
A10: Customer Support growth | B10: 0.01 | C10: Headcount plan
A11: Payment Processing growth | B11: 0.03 | C11: Tracks billings mix
A12: Sales Compensation growth | B12: 0.02 | C12: Quota capacity plan
A13: R&D Salaries growth | B13: 0.012 | C13: Hiring plan + merit
A14: General & Administrative growth | B14: 0.005 | C14: Inflationary
